BEGIN:VCALENDAR
VERSION:2.0
PRODID:-//www.chilifest.eu - ECPv6.15.20//NONSGML v1.0//EN
CALSCALE:GREGORIAN
METHOD:PUBLISH
X-WR-CALNAME:www.chilifest.eu
X-ORIGINAL-URL:https://chilifest.eu
X-WR-CALDESC:Events for www.chilifest.eu
REFRESH-INTERVAL;VALUE=DURATION:PT1H
X-Robots-Tag:noindex
X-PUBLISHED-TTL:PT1H
BEGIN:VTIMEZONE
TZID:Europe/Berlin
BEGIN:DAYLIGHT
TZOFFSETFROM:+0100
TZOFFSETTO:+0200
TZNAME:CEST
DTSTART:20250330T010000
END:DAYLIGHT
BEGIN:STANDARD
TZOFFSETFROM:+0200
TZOFFSETTO:+0100
TZNAME:CET
DTSTART:20251026T010000
END:STANDARD
BEGIN:DAYLIGHT
TZOFFSETFROM:+0100
TZOFFSETTO:+0200
TZNAME:CEST
DTSTART:20260329T010000
END:DAYLIGHT
BEGIN:STANDARD
TZOFFSETFROM:+0200
TZOFFSETTO:+0100
TZNAME:CET
DTSTART:20261025T010000
END:STANDARD
BEGIN:DAYLIGHT
TZOFFSETFROM:+0100
TZOFFSETTO:+0200
TZNAME:CEST
DTSTART:20270328T010000
END:DAYLIGHT
BEGIN:STANDARD
TZOFFSETFROM:+0200
TZOFFSETTO:+0100
TZNAME:CET
DTSTART:20271031T010000
END:STANDARD
BEGIN:DAYLIGHT
TZOFFSETFROM:+0100
TZOFFSETTO:+0200
TZNAME:CEST
DTSTART:20280326T010000
END:DAYLIGHT
BEGIN:STANDARD
TZOFFSETFROM:+0200
TZOFFSETTO:+0100
TZNAME:CET
DTSTART:20281029T010000
END:STANDARD
END:VTIMEZONE
BEGIN:VTIMEZONE
TZID:Europe/Dublin
BEGIN:STANDARD
TZOFFSETFROM:+0000
TZOFFSETTO:+0100
TZNAME:IST
DTSTART:20250330T010000
END:STANDARD
BEGIN:DAYLIGHT
TZOFFSETFROM:+0100
TZOFFSETTO:+0000
TZNAME:GMT
DTSTART:20251026T010000
END:DAYLIGHT
BEGIN:STANDARD
TZOFFSETFROM:+0000
TZOFFSETTO:+0100
TZNAME:IST
DTSTART:20260329T010000
END:STANDARD
BEGIN:DAYLIGHT
TZOFFSETFROM:+0100
TZOFFSETTO:+0000
TZNAME:GMT
DTSTART:20261025T010000
END:DAYLIGHT
BEGIN:STANDARD
TZOFFSETFROM:+0000
TZOFFSETTO:+0100
TZNAME:IST
DTSTART:20270328T010000
END:STANDARD
BEGIN:DAYLIGHT
TZOFFSETFROM:+0100
TZOFFSETTO:+0000
TZNAME:GMT
DTSTART:20271031T010000
END:DAYLIGHT
END:VTIMEZONE
BEGIN:VEVENT
DTSTART;TZID=Europe/Berlin:20260529T180000
DTEND;TZID=Europe/Berlin:20260531T220000
DTSTAMP:20260419T173410
CREATED:20251104T204051Z
LAST-MODIFIED:20260416T085231Z
UID:10000002-1780077600-1780264800@chilifest.eu
SUMMARY:BERLIN // Berlin Chili Fest: Spring Event
DESCRIPTION:Berlin Chili Fest: Spring Event\nFriday 29th (evening)\, Saturday 30th & Sunday 31st May 2026 \nBerlin’s biggest chili celebration is back! Explore hundreds of hot sauces from European and international makers\, indulge in mouth-watering spicy food (vegan-friendly!)\, and sip local beers and cocktails while soaking up the electric atmosphere. With live music\, a kids’ area\, and the legendary Clifton Chili Club competition\, there’s something for every spice lover—and the spice-curious! \n💧 Important Update: Refillable Water Bottles Now Welcome!\nWe hear you. Following feedback from last year’s festival\, we want to confirm that refillable water bottles are now permitted at the event. \nWe’ve spoken directly with the security team and venue management\, and this policy has been updated ahead of May. When you’re tackling some of the world’s hottest sauces\, staying hydrated isn’t optional — it’s essential! Bring your refillable water bottles\, fill it up at home\, and enjoy the heat safely\, outside drinks are still not allowed. \nThank you to everyone who took the time to share their feedback — it genuinely makes a difference. \nTickets:\nWeekend Pass (all 3 days): 12€\nSingle Day Pass: 7€\nAvailable in advance or at the door. \nFree entry for VIP members: https://chilifest.eu/register/ \nWell-behaved dogs are welcome\, and this is a family-friendly event. \nEvent Times:\nFriday 29th May 2026: 6pm – 10pm\nSaturday 30th May 2026: 12pm – 10pm\nSunday 31st May 2026: 12pm – 10pm \nWhat to Expect:\nSpicy Market Stalls\nInternational Hot Sauce\nFresh Chilis & Chili Plants\nBeer Garden\nHot Sauce Tasting\nCocktails\nLocal Beer\nSpicy Cabaret Show\nLive Music\nBBQ & Food Stalls\nVegan & Vegetarian Options\nKids Play Area\nChili Eating Competition\nClifton Chili Club\n& Much more \n★★★★★ TIMETABLE OF ENTERTAINMENT ★★★★★ \nFriday 29th May 2026 \n6pm – 9pm : Meet the Vendors & Press launch\n6pm – 9pm : Market stalls\, Hot Sauce Tasting\, Food Stalls \nSaturday 30th May 2026 \n12pm – 8pm : Market stalls\, Hot Sauce Tasting\, Food Stalls\n2pm – 6pm : Berlin Amateur Chili Eating Competition with Clifton Chili Club (more details below)\n7pm – 8pm : Spicy Cabaret Show hosted by Evilyn Frantic & Friends\n8.30pm – 9.30pm : Live Band : Am Dúnta a high-energy Irish trad ensemble. \nSunday 31st May 2026 \n12 – 8pm : Market stalls\, Hot Sauce Tasting\, Food Stalls\n2pm – 6pm : Berlin Amateur Chili Eating Competition with Clifton Chili Club (more details below)\n6pm – 8pm: Berlins best homemade hot sauce prizes & announcements hosted by Republic of Heat (more details below)\n8pm – 9pm : The Fuckheads LIVE BAND (Garden Stage) \n★★★★★ CHILI EATING COMPETITIONS ★★★★★ \nClifton Chili Club will host a fun chili eating competition open to everyone\, with prizes and giveaways. As seen on Netflix “We Are the Champions\,” Clifton Chili Club is the biggest chili YouTube channel with over 300 million views: https://www.cliftonchilliclub.com/ \nIf you would like to enter the Amateur Chili Eating Competition\, please fill out this form: https://chilifest.eu/amateur-chili-eating/ \n\n★★★★★ BERLINS BEST HOMEMADE HOTSAUCE COMPITITION ★★★★★ \nBring your homemade hot sauce creations to be judged by our panel of experts\, please follow this link for more information and the rules of entry : https://chilifest.eu/berlins-best-homemade-hot-sauce/ \nPrizes for the winners announced on stage on the Sunday at 6pm. \n\n★★★★★ BECOME A VENDOR ★★★★★ \nMay vendor spots are full\, If you are interested in having a stall at the September Berlin Chili Fest\, please fill out this form: https://chilifest.eu/berlin-vendor-application-form-september-2026/ \n★★★★★ SOCIAL MEDIA ★★★★★ \nYouTube: https://www.youtube.com/@berlinchilifestival203\nInstagram: https://www.instagram.com/berlinchilifest/\nFacebook: https://www.facebook.com/BerlinChiliFest/\nTwitter: https://x.com/BerlinChiliFest \n★★★★★ LOCATION ★★★★★ \nBerliner Berg Brauerei\nTreptower Str. 39\, 12059 Berlin\nhttps://g.page/berlinerberg?share \n★★★★★ COMMUNITY ★★★★★ \nhttps://chilifest.eu/community/ \n\n 
URL:https://chilifest.eu/event/berlin-chili-fest-spring-event/
LOCATION:Berliner Berg Brauerei\, Treptower Str. 39\, Berlin\, 12059\, Germany
CATEGORIES:Berlin,Germany
ATTACH;FMTTYPE=image/jpeg:https://chilifest.eu/wp-content/uploads/2025/11/banner-1.jpg
END:VEVENT
BEGIN:VEVENT
DTSTART;TZID=Europe/Dublin:20260627T100000
DTEND;TZID=Europe/Dublin:20260628T200000
DTSTAMP:20260419T173410
CREATED:20251105T202924Z
LAST-MODIFIED:20260407T163726Z
UID:10000004-1782554400-1782676800@chilifest.eu
SUMMARY:IRELAND // Irish Chili Festival @Marina Market / FREE ENTRY
DESCRIPTION:Irish Chili Festival @Marina Market\nFREE ENTRY\nIn association with Yay Cork & Cork 96FM \nGet ready for something new and exciting—the inaugural Irish Chili Festival is coming to Marina Market Cork on June 27-28\, 2026. This brand-new\, free\, family-friendly event will bring Ireland’s first dedicated chili festival to life\, celebrating all things spicy over a full weekend of flavor and fun. \nVisitors can explore a diverse marketplace featuring international hot sauces from across Europe and beyond\, fresh chilis and plants\, and sample products from specialty vendors. The festival caters to all dietary preferences with BBQ\, food trucks\, and plenty of vegan and vegetarian options available throughout the weekend. \nFamilies will appreciate the dedicated kids’ play area\, and well-behaved dogs are welcome to join the festivities. \nA highlight of the weekend is the Irish Amateur Chili Eating Competition\, hosted by the renowned Clifton Chili Club—featured on Netflix’s “We Are the Champions” and boasting over 300 million YouTube views. The competition is open to everyone\, offering prizes\, giveaways\, and serious bragging rights for those brave enough to compete. \nThe Irish Chili Festival takes place at Marina Market\, Centre Park Road\, Ballintemple\, Cork (T12 YX76). Entry is free with donations accepted\, making it an accessible event for everyone curious about the world of chili. \n ★★★★★ MEDIA PARTNERS ★★★★★ \nIn association with Yay Cork & Cork 96FM \nFriends of Irish Chili Festival : https://chilifest.eu/friends-of-irish-chili-festival/ \n★★★★★ AMATEUR CHILI EATING COMPITITION ★★★★★ \nIf you would like to enter the Irish Amateur Chili Eating Competition hosted by Clifton Chili Club\, please fill out this form so we can get in touch : https://chilifest.eu/amateur-chili-eating/ \nClifton Chili Club Chili eating competitionOpen to everyone\, just for fun\, with prizes\, and giveaways.As seen on Netflix “We Are the Champions”Clifton Chili Club is the biggest Chili YouTube channel with over 300 Million views: https://www.cliftonchilliclub.com/ \n★★★★★ THE GREAT IRISH PUB HEAT-OFF ★★★★★ \nIreland’s hottest pub competition is coming to Irish Chili Festival \nThink your local has the toughest crew in Ireland? Prove it at the inaugural Great Irish Pub Heat-Off\, taking place Sunday afternoon at the Irish Chili Festival in June 2026. \nWe’re inviting bars from across Ireland to compete for the title of Ireland’s Spiciest Pub in an intense chili-eating showdown hosted by the legendary Clifton Chili Club (as seen on Netflix’s “We Are the Champions”). \nMore information and sign up form : https://chilifest.eu/the-great-irish-bar-heat-off/ \n★★★★★ IRELANDS BEST HOMEMADE HOTSAUCE COMPITITION ★★★★★ \nBring your homemade hot sauce creations to be judged by our panel of experts\, please follow this link for more information and the rules of entry : https://chilifest.eu/best-homemade-hot-sauce-competition/ \nPrizes for the winners announced on stage on the Sunday. \n★★★★★ BECOME A VENDOR ★★★★★ \nIf you are interested in having a stall at Irish Chili Fest\, please fill out this form: https://chilifest.eu/chili-fest-ireland/ \n★★★★★ MAILING LIST ★★★★★ \nPlease sign up to our Irish Chili Fest mailing list : https://chilifest.eu/irish-chili-festival-mailing-list/ \n★★★★★ VIP MEMBERSHIP ★★★★★ \nSupport this event properly and become a VIP Member : https://chilifest.eu/register/ \n★★★★★ SPONSORSHIP OPPORTUNITY ★★★★★ \nBe part of Ireland’s hottest new event!\nhttps://chilifest.eu/sponsorship-opportunitys/ \n★★★★★ SOCIAL MEDIA ★★★★★ \nYouTube: https://www.youtube.com/@berlinchilifestival203\nInstagram: https://www.instagram.com/irishchilifest/\nFacebook: https://www.facebook.com/profile.php?id=61585775190518\nTwitter: https://x.com/BerlinChiliFest \n★★★★★ LOCATION ★★★★★ \nMarina Market\nCentre Park Road\, Ballintemple\,\nCork. T12 YX76 \nhttps://www.marinamarket.ie/ \n \n★★★★★ COMMUNITY ★★★★★ \nJoin the Telegram group chat for this event: https://t.me/joinchat/V3W38VaYf4s2o6vN\nChili Growers on Facebook: https://www.facebook.com/groups/489429251646289
URL:https://chilifest.eu/event/irish-chili-festival/
LOCATION:Marina Market\, Centre Park Road\, Ballintemple\, Cork\, Ireland
CATEGORIES:Cork,Ireland
ATTACH;FMTTYPE=image/jpeg:https://chilifest.eu/wp-content/uploads/2025/11/Banner.jpg
END:VEVENT
BEGIN:VEVENT
DTSTART;TZID=Europe/Berlin:20270424T110000
DTEND;TZID=Europe/Berlin:20270425T220000
DTSTAMP:20260419T173410
CREATED:20260215T004523Z
LAST-MODIFIED:20260215T125057Z
UID:10000009-1808564400-1808690400@chilifest.eu
SUMMARY:SCOTLAND // Scottish Chili Festival in Edinburgh
DESCRIPTION:Scottish Chili Festival in Edinburgh\nGet ready for something new and exciting—the inaugural Scottish Chili Festival is coming to Edinburgh on April 24th & 25th 2027. This brand-new\, free\, family-friendly event will bring Scotland’s first dedicated chili festival to life\, celebrating all things spicy over a full weekend of flavor and fun. \nVisitors can explore a diverse marketplace featuring international hot sauces from across Scotland\,  Europe and beyond\, fresh chilis and plants\, and sample products from specialty vendors. The festival caters to all dietary preferences with BBQ\, food trucks\, and plenty of vegan and vegetarian options available throughout the weekend. \nFamilies will appreciate the dedicated kids’ play area\, and well-behaved dogs are welcome to join the festivities. \nA highlight of the weekend is the Scottish Amateur Chili Eating Competition\, hosted by the renowned Clifton Chili Club—featured on Netflix’s “We Are the Champions” and boasting over 300 million YouTube views. The competition is open to everyone\, offering prizes\, giveaways\, and serious bragging rights for those brave enough to compete. \n★★★★★ MEDIA PARTNERS ★★★★★ \n  \n★★★★★ AMATEUR CHILI EATING COMPITITION ★★★★★ \nIf you would like to enter the Irish Amateur Chili Eating Competition hosted by Clifton Chili Club\, please fill out this form so we can get in touch : https://chilifest.eu/amateur-chili-eating/ \nClifton Chili Club Chili eating competitionOpen to everyone\, just for fun\, with prizes\, and giveaways.As seen on Netflix “We Are the Champions”Clifton Chili Club is the biggest Chili YouTube channel with over 300 Million views: https://www.cliftonchilliclub.com/ \n★★★★★ BECOME A VENDOR ★★★★★ \nIf you are interested in having a stall at Scottish Chili Fest\, please fill out this form: https://chilifest.eu/scottish-chili-fest-vendor-application/ \n★★★★★ MAILING LIST ★★★★★ \nPlease sign up to our Irish Chili Fest mailing list : https://chilifest.eu/irish-chili-festival-mailing-list/ \n★★★★★ VIP MEMBERSHIP ★★★★★ \nSupport this event properly and become a VIP Member : https://chilifest.eu/register/ \n★★★★★ SPONSORSHIP OPPORTUNITY ★★★★★ \nBe part of Scottlands’s hottest new event!\nhttps://chilifest.eu/sponsorship-opportunitys/ \n★★★★★ SOCIAL MEDIA ★★★★★ \nYouTube: https://www.youtube.com/@berlinchilifestival203\nInstagram: https://www.instagram.com/irishchilifest/\nFacebook: https://www.facebook.com/profile.php?id=61585775190518\nTwitter: https://x.com/BerlinChiliFest \n★★★★★ LOCATION ★★★★★ \nVenue to be announced \n★★★★★ COMMUNITY ★★★★★ \nJoin the Telegram group chat for this event: https://t.me/joinchat/V3W38VaYf4s2o6vN\nChili Growers on Facebook: https://www.facebook.com/groups/489429251646289
URL:https://chilifest.eu/event/scottish-chili-festival-in-edinburgh/
CATEGORIES:Scotland
ATTACH;FMTTYPE=image/jpeg:https://chilifest.eu/wp-content/uploads/2026/02/Scottish-Chili-Fest-Banner-2.jpg
END:VEVENT
END:VCALENDAR