BEGIN:VCALENDAR
VERSION:2.0
PRODID:-//www.chilifest.eu - ECPv6.15.20//NONSGML v1.0//EN
CALSCALE:GREGORIAN
METHOD:PUBLISH
X-ORIGINAL-URL:https://chilifest.eu
X-WR-CALDESC:Events for www.chilifest.eu
REFRESH-INTERVAL;VALUE=DURATION:PT1H
X-Robots-Tag:noindex
X-PUBLISHED-TTL:PT1H
BEGIN:VTIMEZONE
TZID:Europe/Berlin
BEGIN:DAYLIGHT
TZOFFSETFROM:+0100
TZOFFSETTO:+0200
TZNAME:CEST
DTSTART:20250330T010000
END:DAYLIGHT
BEGIN:STANDARD
TZOFFSETFROM:+0200
TZOFFSETTO:+0100
TZNAME:CET
DTSTART:20251026T010000
END:STANDARD
BEGIN:DAYLIGHT
TZOFFSETFROM:+0100
TZOFFSETTO:+0200
TZNAME:CEST
DTSTART:20260329T010000
END:DAYLIGHT
BEGIN:STANDARD
TZOFFSETFROM:+0200
TZOFFSETTO:+0100
TZNAME:CET
DTSTART:20261025T010000
END:STANDARD
BEGIN:DAYLIGHT
TZOFFSETFROM:+0100
TZOFFSETTO:+0200
TZNAME:CEST
DTSTART:20270328T010000
END:DAYLIGHT
BEGIN:STANDARD
TZOFFSETFROM:+0200
TZOFFSETTO:+0100
TZNAME:CET
DTSTART:20271031T010000
END:STANDARD
END:VTIMEZONE
BEGIN:VEVENT
DTSTART;TZID=Europe/Berlin:20260529T180000
DTEND;TZID=Europe/Berlin:20260531T220000
DTSTAMP:20260419T193854
CREATED:20251104T204051Z
LAST-MODIFIED:20260416T085231Z
UID:10000002-1780077600-1780264800@chilifest.eu
SUMMARY:BERLIN // Berlin Chili Fest: Spring Event
DESCRIPTION:Berlin Chili Fest: Spring Event\nFriday 29th (evening)\, Saturday 30th & Sunday 31st May 2026 \nBerlin’s biggest chili celebration is back! Explore hundreds of hot sauces from European and international makers\, indulge in mouth-watering spicy food (vegan-friendly!)\, and sip local beers and cocktails while soaking up the electric atmosphere. With live music\, a kids’ area\, and the legendary Clifton Chili Club competition\, there’s something for every spice lover—and the spice-curious! \n💧 Important Update: Refillable Water Bottles Now Welcome!\nWe hear you. Following feedback from last year’s festival\, we want to confirm that refillable water bottles are now permitted at the event. \nWe’ve spoken directly with the security team and venue management\, and this policy has been updated ahead of May. When you’re tackling some of the world’s hottest sauces\, staying hydrated isn’t optional — it’s essential! Bring your refillable water bottles\, fill it up at home\, and enjoy the heat safely\, outside drinks are still not allowed. \nThank you to everyone who took the time to share their feedback — it genuinely makes a difference. \nTickets:\nWeekend Pass (all 3 days): 12€\nSingle Day Pass: 7€\nAvailable in advance or at the door. \nFree entry for VIP members: https://chilifest.eu/register/ \nWell-behaved dogs are welcome\, and this is a family-friendly event. \nEvent Times:\nFriday 29th May 2026: 6pm – 10pm\nSaturday 30th May 2026: 12pm – 10pm\nSunday 31st May 2026: 12pm – 10pm \nWhat to Expect:\nSpicy Market Stalls\nInternational Hot Sauce\nFresh Chilis & Chili Plants\nBeer Garden\nHot Sauce Tasting\nCocktails\nLocal Beer\nSpicy Cabaret Show\nLive Music\nBBQ & Food Stalls\nVegan & Vegetarian Options\nKids Play Area\nChili Eating Competition\nClifton Chili Club\n& Much more \n★★★★★ TIMETABLE OF ENTERTAINMENT ★★★★★ \nFriday 29th May 2026 \n6pm – 9pm : Meet the Vendors & Press launch\n6pm – 9pm : Market stalls\, Hot Sauce Tasting\, Food Stalls \nSaturday 30th May 2026 \n12pm – 8pm : Market stalls\, Hot Sauce Tasting\, Food Stalls\n2pm – 6pm : Berlin Amateur Chili Eating Competition with Clifton Chili Club (more details below)\n7pm – 8pm : Spicy Cabaret Show hosted by Evilyn Frantic & Friends\n8.30pm – 9.30pm : Live Band : Am Dúnta a high-energy Irish trad ensemble. \nSunday 31st May 2026 \n12 – 8pm : Market stalls\, Hot Sauce Tasting\, Food Stalls\n2pm – 6pm : Berlin Amateur Chili Eating Competition with Clifton Chili Club (more details below)\n6pm – 8pm: Berlins best homemade hot sauce prizes & announcements hosted by Republic of Heat (more details below)\n8pm – 9pm : The Fuckheads LIVE BAND (Garden Stage) \n★★★★★ CHILI EATING COMPETITIONS ★★★★★ \nClifton Chili Club will host a fun chili eating competition open to everyone\, with prizes and giveaways. As seen on Netflix “We Are the Champions\,” Clifton Chili Club is the biggest chili YouTube channel with over 300 million views: https://www.cliftonchilliclub.com/ \nIf you would like to enter the Amateur Chili Eating Competition\, please fill out this form: https://chilifest.eu/amateur-chili-eating/ \n\n★★★★★ BERLINS BEST HOMEMADE HOTSAUCE COMPITITION ★★★★★ \nBring your homemade hot sauce creations to be judged by our panel of experts\, please follow this link for more information and the rules of entry : https://chilifest.eu/berlins-best-homemade-hot-sauce/ \nPrizes for the winners announced on stage on the Sunday at 6pm. \n\n★★★★★ BECOME A VENDOR ★★★★★ \nMay vendor spots are full\, If you are interested in having a stall at the September Berlin Chili Fest\, please fill out this form: https://chilifest.eu/berlin-vendor-application-form-september-2026/ \n★★★★★ SOCIAL MEDIA ★★★★★ \nYouTube: https://www.youtube.com/@berlinchilifestival203\nInstagram: https://www.instagram.com/berlinchilifest/\nFacebook: https://www.facebook.com/BerlinChiliFest/\nTwitter: https://x.com/BerlinChiliFest \n★★★★★ LOCATION ★★★★★ \nBerliner Berg Brauerei\nTreptower Str. 39\, 12059 Berlin\nhttps://g.page/berlinerberg?share \n★★★★★ COMMUNITY ★★★★★ \nhttps://chilifest.eu/community/ \n\n 
URL:https://chilifest.eu/event/berlin-chili-fest-spring-event/
LOCATION:Berliner Berg Brauerei\, Treptower Str. 39\, Berlin\, 12059\, Germany
CATEGORIES:Berlin,Germany
ATTACH;FMTTYPE=image/jpeg:https://chilifest.eu/wp-content/uploads/2025/11/banner-1.jpg
END:VEVENT
END:VCALENDAR